BEGIN:VCALENDAR
VERSION:2.0
PRODID:-//InvisionCommunity Events 4.7.17//EN
METHOD:PUBLISH
CALSCALE:GREGORIAN
REFRESH-INTERVAL:PT15M
X-PUBLISHED-TTL:PT15M
X-WR-CALNAME:Wszystkie kalendarze - Fixitpc.pl
NAME:Wszystkie kalendarze - Fixitpc.pl
BEGIN:VTIMEZONE
TZID:Europe/London
TZURL:http://tzurl.org/zoneinfo/Europe/London
X-LIC-LOCATION:Europe/London
BEGIN:DAYLIGHT
TZOFFSETFROM:+0000
TZOFFSETTO:+0100
TZNAME:BST
DTSTART:20200329T020000Z
RRULE:FREQ=YEARLY;BYMONTH=3;BYDAY=-1SU
END:DAYLIGHT
BEGIN:STANDARD
TZOFFSETFROM:+0100
TZOFFSETTO:+0000
TZNAME:GMT
DTSTART:20201025T020000Z
RRULE:FREQ=YEARLY;BYMONTH=10;BYDAY=-1SU
END:STANDARD
END:VTIMEZONE
BEGIN:VEVENT
SUMMARY:Urodziny forum Fixitpc.pl
DTSTAMP:20200513T012200Z
SEQUENCE:0
UID:2-1-5e3af8c3df299a082da8cf1b682a60cd@www.fixitpc.pl
ORGANIZER;CN="picasso":picasso@fixitpc.pl
DESCRIPTION:\n	Forum zostało otwarte publicznie dnia 27 maja 2010. Dzi
	ałamy od wielu lat i to konsekwentnie bez wsparcia reklamami!\n\n\n\n	 \
	n\n\n\n	❤️\n\n
DTSTART;VALUE=DATE:20200527
RRULE:FREQ=YEARLY;INTERVAL=1
END:VEVENT
END:VCALENDAR
